Package: LoomExperiment Version: 1.25.0 Command: /Library/Frameworks/R.framework/Resources/bin/R CMD INSTALL LoomExperiment StartedAt: 2025-02-12 15:05:02 -0500 (Wed, 12 Feb 2025) EndedAt: 2025-02-12 15:05:13 -0500 (Wed, 12 Feb 2025) EllapsedTime: 11.3 seconds RetCode: 0 Status: OK