Package: LoomExperiment Version: 1.25.0 Command: /home/biocbuild/bbs-3.21-bioc/R/bin/R CMD check --install=check:LoomExperiment.install-out.txt --library=/home/biocbuild/bbs-3.21-bioc/R/site-library --timings LoomExperiment_1.25.0.tar.gz StartedAt: 2025-02-12 23:41:29 -0500 (Wed, 12 Feb 2025) EndedAt: 2025-02-12 23:45:04 -0500 (Wed, 12 Feb 2025) EllapsedTime: 214.5 seconds RetCode: 0 Status: OK CheckDir: LoomExperiment.Rcheck Warnings: 0