Package: LoomExperiment Version: 1.25.0 Command: chmod a+r LoomExperiment -R && E:\biocbuild\bbs-3.21-bioc\R\bin\R.exe CMD build --keep-empty-dirs --no-resave-data LoomExperiment StartedAt: 2025-02-09 19:35:08 -0500 (Sun, 09 Feb 2025) EndedAt: 2025-02-09 19:36:53 -0500 (Sun, 09 Feb 2025) EllapsedTime: 104.8 seconds RetCode: 0 Status: OK PackageFile: LoomExperiment_1.25.0.tar.gz PackageFileSize: 253.1 KiB