Package: LymphoSeq Version: 1.35.0 Command: /Library/Frameworks/R.framework/Resources/bin/R CMD build --keep-empty-dirs --no-resave-data LymphoSeq StartedAt: 2025-02-09 16:46:52 -0500 (Sun, 09 Feb 2025) EndedAt: 2025-02-09 16:47:20 -0500 (Sun, 09 Feb 2025) EllapsedTime: 28.3 seconds RetCode: 0 Status: OK PackageFile: LymphoSeq_1.35.0.tar.gz PackageFileSize: 2.359 MiB