Package: LymphoSeq Version: 1.35.0 Command: /Library/Frameworks/R.framework/Resources/bin/R CMD INSTALL LymphoSeq StartedAt: 2025-02-09 15:12:49 -0500 (Sun, 09 Feb 2025) EndedAt: 2025-02-09 15:12:57 -0500 (Sun, 09 Feb 2025) EllapsedTime: 7.1 seconds RetCode: 0 Status: OK