Package: LymphoSeq Version: 1.35.0 Command: /home/biocbuild/R/R/bin/R CMD INSTALL LymphoSeq StartedAt: 2025-01-29 20:00:07 -0000 (Wed, 29 Jan 2025) EndedAt: 2025-01-29 20:00:32 -0000 (Wed, 29 Jan 2025) EllapsedTime: 25.1 seconds RetCode: 0 Status: OK