Package: LymphoSeq Version: 1.35.0 Command: rm -rf LymphoSeq.buildbin-libdir && mkdir LymphoSeq.buildbin-libdir && /Users/biocbuild/BBS/utils/build-universal.sh LymphoSeq_1.35.0.tar.gz /Library/Frameworks/R.framework/Resources/bin/R LymphoSeq.buildbin-libdir StartedAt: 2025-02-10 01:00:31 -0500 (Mon, 10 Feb 2025) EndedAt: 2025-02-10 01:01:01 -0500 (Mon, 10 Feb 2025) EllapsedTime: 30.1 seconds RetCode: 0 Status: OK PackageFile: LymphoSeq_1.35.0.tgz PackageFileSize: 2.489 MiB