Package: LymphoSeq Version: 1.35.0 Command: /Library/Frameworks/R.framework/Resources/bin/R CMD build --keep-empty-dirs --no-resave-data LymphoSeq StartedAt: 2025-02-09 17:16:41 -0500 (Sun, 09 Feb 2025) EndedAt: 2025-02-09 17:17:56 -0500 (Sun, 09 Feb 2025) EllapsedTime: 74.3 seconds RetCode: 0 Status: OK PackageFile: LymphoSeq_1.35.0.tar.gz PackageFileSize: 2.357 MiB