Package: LymphoSeq Version: 1.35.0 Command: /Library/Frameworks/R.framework/Resources/bin/R CMD INSTALL LymphoSeq StartedAt: 2025-02-09 15:16:24 -0500 (Sun, 09 Feb 2025) EndedAt: 2025-02-09 15:16:49 -0500 (Sun, 09 Feb 2025) EllapsedTime: 25.9 seconds RetCode: 0 Status: OK