Package: LymphoSeq Version: 1.35.0 Command: /home/biocbuild/bbs-3.21-bioc/R/bin/R CMD build --keep-empty-dirs --no-resave-data LymphoSeq StartedAt: 2025-02-09 17:53:21 -0500 (Sun, 09 Feb 2025) EndedAt: 2025-02-09 17:54:22 -0500 (Sun, 09 Feb 2025) EllapsedTime: 61.1 seconds RetCode: 0 Status: OK PackageFile: LymphoSeq_1.35.0.tar.gz PackageFileSize: 2.254 MiB