Package: LymphoSeq Version: 1.35.0 Command: rm -rf LymphoSeq.buildbin-libdir && mkdir LymphoSeq.buildbin-libdir && E:\biocbuild\bbs-3.21-bioc\R\bin\R.exe CMD INSTALL --build --library=LymphoSeq.buildbin-libdir LymphoSeq_1.35.0.tar.gz StartedAt: 2025-02-10 08:03:05 -0500 (Mon, 10 Feb 2025) EndedAt: 2025-02-10 08:04:02 -0500 (Mon, 10 Feb 2025) EllapsedTime: 56.4 seconds RetCode: 0 Status: OK PackageFile: LymphoSeq_1.35.0.zip PackageFileSize: 1.487 MiB