Package: LymphoSeq Version: 1.35.0 Command: E:\biocbuild\bbs-3.21-bioc\R\bin\R.exe CMD check --no-multiarch --install=check:LymphoSeq.install-out.txt --library=E:\biocbuild\bbs-3.21-bioc\R\library --no-vignettes --timings LymphoSeq_1.35.0.tar.gz StartedAt: 2025-02-10 02:27:38 -0500 (Mon, 10 Feb 2025) EndedAt: 2025-02-10 02:31:38 -0500 (Mon, 10 Feb 2025) EllapsedTime: 240.3 seconds RetCode: 0 Status: OK CheckDir: LymphoSeq.Rcheck Warnings: 0