Package: M3C Version: 1.29.0 Command: /home/biocbuild/R/R/bin/R CMD build --keep-empty-dirs --no-resave-data M3C StartedAt: 2025-01-28 23:57:12 -0000 (Tue, 28 Jan 2025) EndedAt: 2025-01-28 23:58:08 -0000 (Tue, 28 Jan 2025) EllapsedTime: 56.0 seconds RetCode: 0 Status: OK PackageFile: M3C_1.29.0.tar.gz PackageFileSize: 579.7 KiB