Package: M3C Version: 1.29.0 Command: E:\biocbuild\bbs-3.21-bioc\R\bin\R.exe CMD check --no-multiarch --install=check:M3C.install-out.txt --library=E:\biocbuild\bbs-3.21-bioc\R\library --no-vignettes --timings M3C_1.29.0.tar.gz StartedAt: 2025-02-10 02:27:48 -0500 (Mon, 10 Feb 2025) EndedAt: 2025-02-10 02:29:27 -0500 (Mon, 10 Feb 2025) EllapsedTime: 99.5 seconds RetCode: 0 Status: OK CheckDir: M3C.Rcheck Warnings: 0