Package: M3Drop Version: 1.33.0 Command: /Library/Frameworks/R.framework/Resources/bin/R CMD build --keep-empty-dirs --no-resave-data M3Drop StartedAt: 2025-02-12 16:47:20 -0500 (Wed, 12 Feb 2025) EndedAt: 2025-02-12 16:47:58 -0500 (Wed, 12 Feb 2025) EllapsedTime: 37.4 seconds RetCode: 0 Status: OK PackageFile: M3Drop_1.33.0.tar.gz PackageFileSize: 12.24 MiB