Package: M3Drop Version: 1.33.0 Command: /Library/Frameworks/R.framework/Resources/bin/R CMD check --install=check:M3Drop.install-out.txt --library=/Library/Frameworks/R.framework/Resources/library --no-vignettes --timings M3Drop_1.33.0.tar.gz StartedAt: 2025-02-09 19:53:02 -0500 (Sun, 09 Feb 2025) EndedAt: 2025-02-09 19:55:00 -0500 (Sun, 09 Feb 2025) EllapsedTime: 118.4 seconds RetCode: 0 Status: OK CheckDir: M3Drop.Rcheck Warnings: 0