Package: M3Drop Version: 1.33.0 Command: /home/biocbuild/R/R/bin/R CMD INSTALL M3Drop StartedAt: 2025-01-29 20:28:10 -0000 (Wed, 29 Jan 2025) EndedAt: 2025-01-29 20:28:20 -0000 (Wed, 29 Jan 2025) EllapsedTime: 9.6 seconds RetCode: 1 Status: ERROR