Package: M3Drop Version: 1.33.0 Command: /Library/Frameworks/R.framework/Resources/bin/R CMD build --keep-empty-dirs --no-resave-data M3Drop StartedAt: 2025-02-09 17:16:44 -0500 (Sun, 09 Feb 2025) EndedAt: 2025-02-09 17:19:16 -0500 (Sun, 09 Feb 2025) EllapsedTime: 152.1 seconds RetCode: 0 Status: OK PackageFile: M3Drop_1.33.0.tar.gz PackageFileSize: 12.24 MiB