Package: M3Drop Version: 1.33.0 Command: /Library/Frameworks/R.framework/Resources/bin/R CMD INSTALL M3Drop StartedAt: 2025-02-09 15:40:13 -0500 (Sun, 09 Feb 2025) EndedAt: 2025-02-09 15:40:34 -0500 (Sun, 09 Feb 2025) EllapsedTime: 21.1 seconds RetCode: 0 Status: OK