Package: M3Drop Version: 1.33.0 Command: /home/biocbuild/bbs-3.21-bioc/R/bin/R CMD check --install=check:M3Drop.install-out.txt --library=/home/biocbuild/bbs-3.21-bioc/R/site-library --timings M3Drop_1.33.0.tar.gz StartedAt: 2025-02-09 23:42:09 -0500 (Sun, 09 Feb 2025) EndedAt: 2025-02-09 23:48:57 -0500 (Sun, 09 Feb 2025) EllapsedTime: 408.6 seconds RetCode: 0 Status: OK CheckDir: M3Drop.Rcheck Warnings: 0