Package: M3Drop Version: 1.33.0 Command: /home/biocbuild/bbs-3.21-bioc/R/bin/R CMD INSTALL M3Drop StartedAt: 2025-02-12 15:53:48 -0500 (Wed, 12 Feb 2025) EndedAt: 2025-02-12 15:54:04 -0500 (Wed, 12 Feb 2025) EllapsedTime: 16.3 seconds RetCode: 0 Status: OK