Package: M3Drop Version: 1.33.0 Command: chmod a+r M3Drop -R && E:\biocbuild\bbs-3.21-bioc\R\bin\R.exe CMD build --keep-empty-dirs --no-resave-data M3Drop StartedAt: 2025-02-09 19:35:43 -0500 (Sun, 09 Feb 2025) EndedAt: 2025-02-09 19:39:07 -0500 (Sun, 09 Feb 2025) EllapsedTime: 204.3 seconds RetCode: 0 Status: OK PackageFile: M3Drop_1.33.0.tar.gz PackageFileSize: 12.14 MiB