Package: M3Drop Version: 1.33.0 Command: E:\biocbuild\bbs-3.21-bioc\R\bin\R.exe CMD check --no-multiarch --install=check:M3Drop.install-out.txt --library=E:\biocbuild\bbs-3.21-bioc\R\library --no-vignettes --timings M3Drop_1.33.0.tar.gz StartedAt: 2025-02-10 02:27:56 -0500 (Mon, 10 Feb 2025) EndedAt: 2025-02-10 02:34:48 -0500 (Mon, 10 Feb 2025) EllapsedTime: 411.6 seconds RetCode: 0 Status: OK CheckDir: M3Drop.Rcheck Warnings: 0