Package: MACSQuantifyR Version: 1.21.0 Command: /Library/Frameworks/R.framework/Resources/bin/R CMD INSTALL MACSQuantifyR StartedAt: 2025-02-09 15:16:43 -0500 (Sun, 09 Feb 2025) EndedAt: 2025-02-09 15:16:46 -0500 (Sun, 09 Feb 2025) EllapsedTime: 3.1 seconds RetCode: 0 Status: OK