Package: MACSQuantifyR Version: 1.21.0 Command: /home/biocbuild/R/R/bin/R CMD INSTALL MACSQuantifyR StartedAt: 2025-01-29 20:09:19 -0000 (Wed, 29 Jan 2025) EndedAt: 2025-01-29 20:09:27 -0000 (Wed, 29 Jan 2025) EllapsedTime: 7.4 seconds RetCode: 0 Status: OK