Package: MACSQuantifyR Version: 1.21.0 Command: /Library/Frameworks/R.framework/Resources/bin/R CMD INSTALL MACSQuantifyR StartedAt: 2025-02-12 15:26:57 -0500 (Wed, 12 Feb 2025) EndedAt: 2025-02-12 15:27:06 -0500 (Wed, 12 Feb 2025) EllapsedTime: 9.0 seconds RetCode: 0 Status: OK