Package: MACSQuantifyR Version: 1.21.0 Command: /home/biocbuild/bbs-3.21-bioc/R/bin/R CMD check --install=check:MACSQuantifyR.install-out.txt --library=/home/biocbuild/bbs-3.21-bioc/R/site-library --timings MACSQuantifyR_1.21.0.tar.gz StartedAt: 2025-02-09 23:42:58 -0500 (Sun, 09 Feb 2025) EndedAt: 2025-02-09 23:43:57 -0500 (Sun, 09 Feb 2025) EllapsedTime: 59.1 seconds RetCode: 0 Status: OK CheckDir: MACSQuantifyR.Rcheck Warnings: 0