Package: MACSQuantifyR Version: 1.21.0 Command: /home/biocbuild/bbs-3.21-bioc/R/bin/R CMD INSTALL MACSQuantifyR StartedAt: 2025-02-12 15:11:29 -0500 (Wed, 12 Feb 2025) EndedAt: 2025-02-12 15:11:45 -0500 (Wed, 12 Feb 2025) EllapsedTime: 16.0 seconds RetCode: 0 Status: OK