Package: MACSr Version: 1.15.0 Command: rm -rf MACSr.buildbin-libdir && mkdir MACSr.buildbin-libdir && /Users/biocbuild/BBS/utils/build-universal.sh MACSr_1.15.0.tar.gz /Library/Frameworks/R.framework/Resources/bin/R MACSr.buildbin-libdir StartedAt: 2025-02-09 22:19:30 -0500 (Sun, 09 Feb 2025) EndedAt: 2025-02-09 22:19:40 -0500 (Sun, 09 Feb 2025) EllapsedTime: 9.2 seconds RetCode: 0 Status: OK PackageFile: MACSr_1.15.0.tgz PackageFileSize: 5.329 MiB