Package: MACSr Version: 1.15.0 Command: /Library/Frameworks/R.framework/Resources/bin/R CMD check --install=check:MACSr.install-out.txt --library=/Library/Frameworks/R.framework/Resources/library --no-vignettes --timings MACSr_1.15.0.tar.gz StartedAt: 2025-02-12 19:57:55 -0500 (Wed, 12 Feb 2025) EndedAt: 2025-02-12 19:59:12 -0500 (Wed, 12 Feb 2025) EllapsedTime: 77.0 seconds RetCode: 0 Status: OK CheckDir: MACSr.Rcheck Warnings: 0