Package: MACSr Version: 1.15.0 Command: /Library/Frameworks/R.framework/Resources/bin/R CMD INSTALL MACSr StartedAt: 2025-02-09 15:08:50 -0500 (Sun, 09 Feb 2025) EndedAt: 2025-02-09 15:08:57 -0500 (Sun, 09 Feb 2025) EllapsedTime: 7.1 seconds RetCode: 0 Status: OK