Package: MACSr Version: 1.15.0 Command: /home/biocbuild/R/R/bin/R CMD INSTALL MACSr StartedAt: 2025-01-29 19:49:52 -0000 (Wed, 29 Jan 2025) EndedAt: 2025-01-29 19:50:14 -0000 (Wed, 29 Jan 2025) EllapsedTime: 22.0 seconds RetCode: 0 Status: OK