Package: MACSr Version: 1.15.0 Command: /Library/Frameworks/R.framework/Resources/bin/R CMD build --keep-empty-dirs --no-resave-data MACSr StartedAt: 2025-02-12 17:13:42 -0500 (Wed, 12 Feb 2025) EndedAt: 2025-02-12 17:15:29 -0500 (Wed, 12 Feb 2025) EllapsedTime: 107.3 seconds RetCode: 0 Status: OK PackageFile: MACSr_1.15.0.tar.gz PackageFileSize: 5.112 MiB