Package: MAGAR Version: 1.15.1 Command: /home/biocbuild/R/R/bin/R CMD INSTALL MAGAR StartedAt: 2025-01-29 20:36:39 -0000 (Wed, 29 Jan 2025) EndedAt: 2025-01-29 20:36:40 -0000 (Wed, 29 Jan 2025) EllapsedTime: 1.0 seconds RetCode: 1 Status: ERROR