Package: MAGAR Version: 1.15.1 Command: /Library/Frameworks/R.framework/Resources/bin/R CMD INSTALL MAGAR StartedAt: 2025-02-09 15:46:42 -0500 (Sun, 09 Feb 2025) EndedAt: 2025-02-09 15:46:43 -0500 (Sun, 09 Feb 2025) EllapsedTime: 0.4 seconds RetCode: 1 Status: ERROR