Package: MAGAR Version: 1.15.1 Command: /home/biocbuild/bbs-3.21-bioc/R/bin/R CMD build --keep-empty-dirs --no-resave-data MAGAR StartedAt: 2025-02-12 17:51:15 -0500 (Wed, 12 Feb 2025) EndedAt: 2025-02-12 17:51:16 -0500 (Wed, 12 Feb 2025) EllapsedTime: 1.0 seconds RetCode: 1 Status: ERROR PackageFile: None PackageFileSize: NA