Package: MAGAR Version: 1.15.1 Command: /home/biocbuild/bbs-3.21-bioc/R/bin/R CMD INSTALL MAGAR StartedAt: 2025-02-09 16:00:27 -0500 (Sun, 09 Feb 2025) EndedAt: 2025-02-09 16:00:28 -0500 (Sun, 09 Feb 2025) EllapsedTime: 0.3 seconds RetCode: 1 Status: ERROR