Package: MAGAR Version: 1.15.1 Command: chmod a+r MAGAR -R && E:\biocbuild\bbs-3.21-bioc\R\bin\R.exe CMD build --keep-empty-dirs --no-resave-data MAGAR StartedAt: 2025-02-12 19:42:27 -0500 (Wed, 12 Feb 2025) EndedAt: 2025-02-12 19:42:31 -0500 (Wed, 12 Feb 2025) EllapsedTime: 4.5 seconds RetCode: 1 Status: ERROR PackageFile: None PackageFileSize: NA