Package: MAGeCKFlute Version: 2.11.1 Command: /Library/Frameworks/R.framework/Resources/bin/R CMD INSTALL MAGeCKFlute StartedAt: 2025-02-09 15:23:12 -0500 (Sun, 09 Feb 2025) EndedAt: 2025-02-09 15:23:25 -0500 (Sun, 09 Feb 2025) EllapsedTime: 12.3 seconds RetCode: 0 Status: OK