Package: MAGeCKFlute Version: 2.11.1 Command: chmod a+r MAGeCKFlute -R && E:\biocbuild\bbs-3.21-bioc\R\bin\R.exe CMD build --keep-empty-dirs --no-resave-data MAGeCKFlute StartedAt: 2025-02-04 19:39:32 -0500 (Tue, 04 Feb 2025) EndedAt: 2025-02-04 19:46:47 -0500 (Tue, 04 Feb 2025) EllapsedTime: 435.1 seconds RetCode: 1 Status: ERROR PackageFile: None PackageFileSize: NA