Package: MAGeCKFlute Version: 2.11.1 Command: E:\biocbuild\bbs-3.21-bioc\R\bin\R.exe CMD INSTALL MAGeCKFlute StartedAt: 2025-02-04 16:38:57 -0500 (Tue, 04 Feb 2025) EndedAt: 2025-02-04 16:39:52 -0500 (Tue, 04 Feb 2025) EllapsedTime: 54.9 seconds RetCode: 0 Status: OK