Package: MAI Version: 1.13.0 Command: /Library/Frameworks/R.framework/Resources/bin/R CMD check --install=check:MAI.install-out.txt --library=/Library/Frameworks/R.framework/Resources/library --no-vignettes --timings MAI_1.13.0.tar.gz StartedAt: 2025-02-09 19:54:09 -0500 (Sun, 09 Feb 2025) EndedAt: 2025-02-09 19:56:45 -0500 (Sun, 09 Feb 2025) EllapsedTime: 155.9 seconds RetCode: 0 Status: OK CheckDir: MAI.Rcheck Warnings: 0