Package: MAI Version: 1.13.0 Command: /Library/Frameworks/R.framework/Resources/bin/R CMD INSTALL MAI StartedAt: 2025-02-09 15:23:47 -0500 (Sun, 09 Feb 2025) EndedAt: 2025-02-09 15:23:58 -0500 (Sun, 09 Feb 2025) EllapsedTime: 10.6 seconds RetCode: 0 Status: OK