Package: MAI Version: 1.13.0 Command: /home/biocbuild/R/R/bin/R CMD check --install=check:MAI.install-out.txt --library=/home/biocbuild/R/R/site-library --no-vignettes --timings MAI_1.13.0.tar.gz StartedAt: 2025-01-28 12:00:50 -0000 (Tue, 28 Jan 2025) EndedAt: 2025-01-28 12:11:39 -0000 (Tue, 28 Jan 2025) EllapsedTime: 649.7 seconds RetCode: 0 Status: OK CheckDir: MAI.Rcheck Warnings: 0