Package: MAI Version: 1.13.0 Command: /Library/Frameworks/R.framework/Resources/bin/R CMD build --keep-empty-dirs --no-resave-data MAI StartedAt: 2025-02-04 17:13:07 -0500 (Tue, 04 Feb 2025) EndedAt: 2025-02-04 17:18:04 -0500 (Tue, 04 Feb 2025) EllapsedTime: 296.2 seconds RetCode: 0 Status: OK PackageFile: MAI_1.13.0.tar.gz PackageFileSize: 452.2 KiB