Package: MAI Version: 1.13.0 Command: /Library/Frameworks/R.framework/Resources/bin/R CMD INSTALL MAI StartedAt: 2025-02-04 15:36:28 -0500 (Tue, 04 Feb 2025) EndedAt: 2025-02-04 15:37:03 -0500 (Tue, 04 Feb 2025) EllapsedTime: 35.7 seconds RetCode: 0 Status: OK