Package: MAI Version: 1.13.0 Command: /home/biocbuild/bbs-3.21-bioc/R/bin/R CMD check --install=check:MAI.install-out.txt --library=/home/biocbuild/bbs-3.21-bioc/R/site-library --timings MAI_1.13.0.tar.gz StartedAt: 2025-02-09 23:44:05 -0500 (Sun, 09 Feb 2025) EndedAt: 2025-02-09 23:55:29 -0500 (Sun, 09 Feb 2025) EllapsedTime: 683.8 seconds RetCode: 0 Status: OK CheckDir: MAI.Rcheck Warnings: 0