Package: MAI Version: 1.13.0 Command: chmod a+r MAI -R && E:\biocbuild\bbs-3.21-bioc\R\bin\R.exe CMD build --keep-empty-dirs --no-resave-data MAI StartedAt: 2025-02-04 19:39:38 -0500 (Tue, 04 Feb 2025) EndedAt: 2025-02-04 19:45:04 -0500 (Tue, 04 Feb 2025) EllapsedTime: 325.2 seconds RetCode: 0 Status: OK PackageFile: MAI_1.13.0.tar.gz PackageFileSize: 452.5 KiB