Package: MAIT Version: 1.41.0 Command: /home/biocbuild/R/R/bin/R CMD build --keep-empty-dirs --no-resave-data MAIT StartedAt: 2025-01-28 23:58:45 -0000 (Tue, 28 Jan 2025) EndedAt: 2025-01-29 00:02:56 -0000 (Wed, 29 Jan 2025) EllapsedTime: 251.1 seconds RetCode: 0 Status: OK PackageFile: MAIT_1.41.0.tar.gz PackageFileSize: 2.361 MiB