Package: MAIT Version: 1.41.0 Command: E:\biocbuild\bbs-3.21-bioc\R\bin\R.exe CMD check --no-multiarch --install=check:MAIT.install-out.txt --library=E:\biocbuild\bbs-3.21-bioc\R\library --no-vignettes --timings MAIT_1.41.0.tar.gz StartedAt: 2025-02-13 02:41:27 -0500 (Thu, 13 Feb 2025) EndedAt: 2025-02-13 02:50:10 -0500 (Thu, 13 Feb 2025) EllapsedTime: 522.7 seconds RetCode: 0 Status: OK CheckDir: MAIT.Rcheck Warnings: 0